BEGIN:VCALENDAR
VERSION:2.0
PRODID:-//NetAuktion//NONSGML NetAuktion//SV
METHOD:PUBLISH
BEGIN:VEVENT
UID:20260421T103236-367894324-netauktion.se
DTSTAMP:20260421T103236
DTSTART:20170428T013800
DTEND:20170428T014100
SUMMARY:Netauktion objekt 2825-002 Auktionspåminnelse
DESCRIPTION:Länk till objektet du var intresserad av: https://staging.netauktion.se/auktion/produkt/harley-davidson-fxdf-fat-bob-gwk407-08
END:VEVENT
END:VCALENDAR
