BEGIN:VCALENDAR
VERSION:2.0
PRODID:-//NetAuktion//NONSGML NetAuktion//SV
METHOD:PUBLISH
BEGIN:VEVENT
UID:20260421T103004-711530526-netauktion.se
DTSTAMP:20260421T103004
DTSTART:20170428T013400
DTEND:20170428T013700
SUMMARY:Netauktion objekt 2825-003 Auktionspåminnelse
DESCRIPTION:Länk till objektet du var intresserad av: https://staging.netauktion.se/auktion/produkt/kawasaki-ninja-zx1200-a2h-sbd352-01
END:VEVENT
END:VCALENDAR
