BEGIN:VCALENDAR
VERSION:2.0
PRODID:-//NetAuktion//NONSGML NetAuktion//SV
METHOD:PUBLISH
BEGIN:VEVENT
UID:20260421T104534-1414201010-netauktion.se
DTSTAMP:20260421T104534
DTSTART:20170331T014100
DTEND:20170331T014400
SUMMARY:Netauktion objekt 2827-002 Auktionspåminnelse
DESCRIPTION:Länk till objektet du var intresserad av: https://staging.netauktion.se/auktion/produkt/spikpistol-basso-modell-s50040-f1
END:VEVENT
END:VCALENDAR
