BEGIN:VCALENDAR
VERSION:2.0
PRODID:-//NetAuktion//NONSGML NetAuktion//SV
METHOD:PUBLISH
BEGIN:VEVENT
UID:20260421T104530-1161132072-netauktion.se
DTSTAMP:20260421T104530
DTSTART:20161230T023400
DTEND:20161230T023700
SUMMARY:Netauktion objekt 2810-012 Auktionspåminnelse
DESCRIPTION:Länk till objektet du var intresserad av: https://staging.netauktion.se/auktion/produkt/hitachi-platsax-ce18dsl-batteridriven
END:VEVENT
END:VCALENDAR
