BEGIN:VCALENDAR
VERSION:2.0
PRODID:-//NetAuktion//NONSGML NetAuktion//SV
METHOD:PUBLISH
BEGIN:VEVENT
UID:20260421T103127-1052704195-netauktion.se
DTSTAMP:20260421T103127
DTSTART:20161230T020800
DTEND:20161230T021100
SUMMARY:Netauktion objekt 2810-014 Auktionspåminnelse
DESCRIPTION:Länk till objektet du var intresserad av: https://staging.netauktion.se/auktion/produkt/hitachi-elhyvel-p18dsl-batteridriven
END:VEVENT
END:VCALENDAR
