BEGIN:VCALENDAR
VERSION:2.0
PRODID:-//NetAuktion//NONSGML NetAuktion//SV
METHOD:PUBLISH
BEGIN:VEVENT
UID:20260421T104635-482388561-netauktion.se
DTSTAMP:20260421T104635
DTSTART:20161230T021300
DTEND:20161230T021600
SUMMARY:Netauktion objekt 2810-024 Auktionspåminnelse
DESCRIPTION:Länk till objektet du var intresserad av: https://staging.netauktion.se/auktion/produkt/hitachi-grastrimmer-cg25sc
END:VEVENT
END:VCALENDAR
