BEGIN:VCALENDAR
VERSION:2.0
PRODID:-//NetAuktion//NONSGML NetAuktion//SV
METHOD:PUBLISH
BEGIN:VEVENT
UID:20260421T104621-88377317-netauktion.se
DTSTAMP:20260421T104621
DTSTART:20161230T020500
DTEND:20161230T020800
SUMMARY:Netauktion objekt 2810-030 Auktionspåminnelse
DESCRIPTION:Länk till objektet du var intresserad av: https://staging.netauktion.se/auktion/produkt/korslaser-niko-1
END:VEVENT
END:VCALENDAR
