BEGIN:VCALENDAR
VERSION:2.0
PRODID:-//NetAuktion//NONSGML NetAuktion//SV
METHOD:PUBLISH
BEGIN:VEVENT
UID:20260421T103238-1923557608-netauktion.se
DTSTAMP:20260421T103238
DTSTART:20161230T020100
DTEND:20161230T020400
SUMMARY:Netauktion objekt 2810-033 Auktionspåminnelse
DESCRIPTION:Länk till objektet du var intresserad av: https://staging.netauktion.se/auktion/produkt/niko-laser-kryss-och-5-punkt
END:VEVENT
END:VCALENDAR
