BEGIN:VCALENDAR
VERSION:2.0
PRODID:-//NetAuktion//NONSGML NetAuktion//SV
METHOD:PUBLISH
BEGIN:VEVENT
UID:20260421T104636-1692682943-netauktion.se
DTSTAMP:20260421T104636
DTSTART:20161230T023300
DTEND:20161230T023600
SUMMARY:Netauktion objekt 2810-034 Auktionspåminnelse
DESCRIPTION:Länk till objektet du var intresserad av: https://staging.netauktion.se/auktion/produkt/hitachi-dyckertpistol-nt-50gs-gasdriven
END:VEVENT
END:VCALENDAR
