BEGIN:VCALENDAR
VERSION:2.0
PRODID:-//NetAuktion//NONSGML NetAuktion//SV
METHOD:PUBLISH
BEGIN:VEVENT
UID:20260421T104358-1867927166-netauktion.se
DTSTAMP:20260421T104358
DTSTART:20161230T021800
DTEND:20161230T022100
SUMMARY:Netauktion objekt 2810-040 Auktionspåminnelse
DESCRIPTION:Länk till objektet du var intresserad av: https://staging.netauktion.se/auktion/produkt/hitachi-grastrimmer-cg36dl-batteridriven
END:VEVENT
END:VCALENDAR
