BEGIN:VCALENDAR
VERSION:2.0
PRODID:-//NetAuktion//NONSGML NetAuktion//SV
METHOD:PUBLISH
BEGIN:VEVENT
UID:20260421T104529-386632589-netauktion.se
DTSTAMP:20260421T104529
DTSTART:20161230T023600
DTEND:20161230T023900
SUMMARY:Netauktion objekt 2810-041 Auktionspåminnelse
DESCRIPTION:Länk till objektet du var intresserad av: https://staging.netauktion.se/auktion/produkt/hitachi-multiverktyg-cv-18dbl-batteridriven
END:VEVENT
END:VCALENDAR
