BEGIN:VCALENDAR
VERSION:2.0
PRODID:-//NetAuktion//NONSGML NetAuktion//SV
METHOD:PUBLISH
BEGIN:VEVENT
UID:20260421T104622-1401845339-netauktion.se
DTSTAMP:20260421T104622
DTSTART:20161230T015600
DTEND:20161230T015900
SUMMARY:Netauktion objekt 2810-048 Auktionspåminnelse
DESCRIPTION:Länk till objektet du var intresserad av: https://staging.netauktion.se/auktion/produkt/hitachi-spikpistol-nv90hmc
END:VEVENT
END:VCALENDAR
