BEGIN:VCALENDAR
VERSION:2.0
PRODID:-//NetAuktion//NONSGML NetAuktion//SV
METHOD:PUBLISH
BEGIN:VEVENT
UID:20260421T103127-1165505002-netauktion.se
DTSTAMP:20260421T103127
DTSTART:20161230T015800
DTEND:20161230T020100
SUMMARY:Netauktion objekt 2810-055 Auktionspåminnelse
DESCRIPTION:Länk till objektet du var intresserad av: https://staging.netauktion.se/auktion/produkt/niko-roterande-2-falls-laser-gron
END:VEVENT
END:VCALENDAR
