BEGIN:VCALENDAR
VERSION:2.0
PRODID:-//NetAuktion//NONSGML NetAuktion//SV
METHOD:PUBLISH
BEGIN:VEVENT
UID:20260421T102854-2082455116-netauktion.se
DTSTAMP:20260421T102854
DTSTART:20180330T033400
DTEND:20180330T033700
SUMMARY:Netauktion objekt 2842-001 Auktionspåminnelse
DESCRIPTION:Länk till objektet du var intresserad av: https://staging.netauktion.se/auktion/produkt/stralkastartest
END:VEVENT
END:VCALENDAR
