BEGIN:VCALENDAR
VERSION:2.0
PRODID:-//NetAuktion//NONSGML NetAuktion//SV
METHOD:PUBLISH
BEGIN:VEVENT
UID:20260421T103033-571086145-netauktion.se
DTSTAMP:20260421T103033
DTSTART:20170425T023200
DTEND:20170425T023500
SUMMARY:Netauktion objekt 2751-010 Auktionspåminnelse
DESCRIPTION:Länk till objektet du var intresserad av: https://staging.netauktion.se/auktion/produkt/gravskopa-neuson
END:VEVENT
END:VCALENDAR
