BEGIN:VCALENDAR
VERSION:2.0
PRODID:-//NetAuktion//NONSGML NetAuktion//SV
METHOD:PUBLISH
BEGIN:VEVENT
UID:20260421T102802-1516442282-netauktion.se
DTSTAMP:20260421T102802
DTSTART:20170124T055700
DTEND:20170124T060000
SUMMARY:Netauktion objekt 2751-011 Auktionspåminnelse
DESCRIPTION:Länk till objektet du var intresserad av: https://staging.netauktion.se/auktion/produkt/planeringskopa-med-vridbart-faste-neuson
END:VEVENT
END:VCALENDAR
