BEGIN:VCALENDAR
VERSION:2.0
PRODID:-//NetAuktion//NONSGML NetAuktion//SV
METHOD:PUBLISH
BEGIN:VEVENT
UID:20260421T104619-111294499-netauktion.se
DTSTAMP:20260421T104619
DTSTART:20161230T030400
DTEND:20161230T030700
SUMMARY:Netauktion objekt 2669-019 Auktionspåminnelse
DESCRIPTION:Länk till objektet du var intresserad av: https://staging.netauktion.se/auktion/produkt/viltvag
END:VEVENT
END:VCALENDAR
