BEGIN:VCALENDAR
VERSION:2.0
PRODID:-//NetAuktion//NONSGML NetAuktion//SV
METHOD:PUBLISH
BEGIN:VEVENT
UID:20260421T104442-657300309-netauktion.se
DTSTAMP:20260421T104442
DTSTART:20090831T034600
DTEND:20090831T034900
SUMMARY:Netauktion objekt 0241-367 Auktionspåminnelse
DESCRIPTION:Länk till objektet du var intresserad av: https://staging.netauktion.se/auktion/produkt/15-st-nya-var-hostjackor-herr-12
END:VEVENT
END:VCALENDAR
