BEGIN:VCALENDAR
VERSION:2.0
PRODID:-//NetAuktion//NONSGML NetAuktion//SV
METHOD:PUBLISH
BEGIN:VEVENT
UID:20260421T103127-1295702720-netauktion.se
DTSTAMP:20260421T103127
DTSTART:20170131T013300
DTEND:20170131T013600
SUMMARY:Netauktion objekt 2878-001 Auktionspåminnelse
DESCRIPTION:Länk till objektet du var intresserad av: https://staging.netauktion.se/auktion/produkt/volvo-v70-ambulans-blj089
END:VEVENT
END:VCALENDAR
