BEGIN:VCALENDAR
VERSION:2.0
PRODID:-//NetAuktion//NONSGML NetAuktion//SV
METHOD:PUBLISH
BEGIN:VEVENT
UID:20260421T103135-428073520-netauktion.se
DTSTAMP:20260421T103135
DTSTART:20170127T010500
DTEND:20170127T010800
SUMMARY:Netauktion objekt 2880-003 Auktionspåminnelse
DESCRIPTION:Länk till objektet du var intresserad av: https://staging.netauktion.se/auktion/produkt/glossy-lips
END:VEVENT
END:VCALENDAR
