BEGIN:VCALENDAR
VERSION:2.0
PRODID:-//NetAuktion//NONSGML NetAuktion//SV
METHOD:PUBLISH
BEGIN:VEVENT
UID:20260421T104433-1665017215-netauktion.se
DTSTAMP:20260421T104433
DTSTART:20170127T020100
DTEND:20170127T020400
SUMMARY:Netauktion objekt 2603-035 Auktionspåminnelse
DESCRIPTION:Länk till objektet du var intresserad av: https://staging.netauktion.se/auktion/produkt/motorolja-micro-10-40-mineralolja-2
END:VEVENT
END:VCALENDAR
