BEGIN:VCALENDAR
VERSION:2.0
PRODID:-//NetAuktion//NONSGML NetAuktion//SV
METHOD:PUBLISH
BEGIN:VEVENT
UID:20260421T104634-1670582888-netauktion.se
DTSTAMP:20260421T104634
DTSTART:20170131T015100
DTEND:20170131T015400
SUMMARY:Netauktion objekt 2787-026 Auktionspåminnelse
DESCRIPTION:Länk till objektet du var intresserad av: https://staging.netauktion.se/auktion/produkt/kontorsstol-4
END:VEVENT
END:VCALENDAR
