BEGIN:VCALENDAR
VERSION:2.0
PRODID:-//NetAuktion//NONSGML NetAuktion//SV
METHOD:PUBLISH
BEGIN:VEVENT
UID:20260421T103128-2053230053-netauktion.se
DTSTAMP:20260421T103128
DTSTART:20170331T014900
DTEND:20170331T015200
SUMMARY:Netauktion objekt 2813-044 Auktionspåminnelse
DESCRIPTION:Länk till objektet du var intresserad av: https://staging.netauktion.se/auktion/produkt/spikpistol-basso-a34100-a2-nr-5
END:VEVENT
END:VCALENDAR
