BEGIN:VCALENDAR
VERSION:2.0
PRODID:-//NetAuktion//NONSGML NetAuktion//SV
METHOD:PUBLISH
BEGIN:VEVENT
UID:20260421T104454-1416510526-netauktion.se
DTSTAMP:20260421T104454
DTSTART:20170224T032600
DTEND:20170224T032900
SUMMARY:Netauktion objekt 2798-012 Auktionspåminnelse
DESCRIPTION:Länk till objektet du var intresserad av: https://staging.netauktion.se/auktion/produkt/arbetsbelysning-skruvdragare-verktyg-mm
END:VEVENT
END:VCALENDAR
