BEGIN:VCALENDAR
VERSION:2.0
PRODID:-//NetAuktion//NONSGML NetAuktion//SV
METHOD:PUBLISH
BEGIN:VEVENT
UID:20260421T103128-2098351588-netauktion.se
DTSTAMP:20260421T103128
DTSTART:20170531T020300
DTEND:20170531T020600
SUMMARY:Netauktion objekt 2645-055 Auktionspåminnelse
DESCRIPTION:Länk till objektet du var intresserad av: https://staging.netauktion.se/auktion/produkt/automat-for-engangsskor-2st-8-000-skydd-5
END:VEVENT
END:VCALENDAR
