BEGIN:VCALENDAR
VERSION:2.0
PRODID:-//NetAuktion//NONSGML NetAuktion//SV
METHOD:PUBLISH
BEGIN:VEVENT
UID:20260421T104455-145917799-netauktion.se
DTSTAMP:20260421T104455
DTSTART:20170224T033900
DTEND:20170224T034200
SUMMARY:Netauktion objekt 2918-010 Auktionspåminnelse
DESCRIPTION:Länk till objektet du var intresserad av: https://staging.netauktion.se/auktion/produkt/cirkelsag-och-vinkelkap-dewalt
END:VEVENT
END:VCALENDAR
