BEGIN:VCALENDAR
VERSION:2.0
PRODID:-//NetAuktion//NONSGML NetAuktion//SV
METHOD:PUBLISH
BEGIN:VEVENT
UID:20260421T104442-1954093926-netauktion.se
DTSTAMP:20260421T104442
DTSTART:20170224T034000
DTEND:20170224T034300
SUMMARY:Netauktion objekt 2918-011 Auktionspåminnelse
DESCRIPTION:Länk till objektet du var intresserad av: https://staging.netauktion.se/auktion/produkt/blandade-ting-5
END:VEVENT
END:VCALENDAR
