BEGIN:VCALENDAR
VERSION:2.0
PRODID:-//NetAuktion//NONSGML NetAuktion//SV
METHOD:PUBLISH
BEGIN:VEVENT
UID:20260421T104621-1803081939-netauktion.se
DTSTAMP:20260421T104621
DTSTART:20170224T034100
DTEND:20170224T034400
SUMMARY:Netauktion objekt 2918-012 Auktionspåminnelse
DESCRIPTION:Länk till objektet du var intresserad av: https://staging.netauktion.se/auktion/produkt/skruvdragare-dewalt-och-hitachi
END:VEVENT
END:VCALENDAR
