BEGIN:VCALENDAR
VERSION:2.0
PRODID:-//NetAuktion//NONSGML NetAuktion//SV
METHOD:PUBLISH
BEGIN:VEVENT
UID:20260421T103129-1100926161-netauktion.se
DTSTAMP:20260421T103129
DTSTART:20170227T155700
DTEND:20170227T160000
SUMMARY:Netauktion objekt 2907-035 Auktionspåminnelse
DESCRIPTION:Länk till objektet du var intresserad av: https://staging.netauktion.se/auktion/produkt/ljusskyltar-for-butiksinredning-6st
END:VEVENT
END:VCALENDAR
