BEGIN:VCALENDAR
VERSION:2.0
PRODID:-//NetAuktion//NONSGML NetAuktion//SV
METHOD:PUBLISH
BEGIN:VEVENT
UID:20260421T104254-2090430452-netauktion.se
DTSTAMP:20260421T104254
DTSTART:20170228T155700
DTEND:20170228T160000
SUMMARY:Netauktion objekt 2914-073 Auktionspåminnelse
DESCRIPTION:Länk till objektet du var intresserad av: https://staging.netauktion.se/auktion/produkt/diverse-butiksinredningsdetaljer
END:VEVENT
END:VCALENDAR
