BEGIN:VCALENDAR
VERSION:2.0
PRODID:-//NetAuktion//NONSGML NetAuktion//SV
METHOD:PUBLISH
BEGIN:VEVENT
UID:20260421T104458-726602598-netauktion.se
DTSTAMP:20260421T104458
DTSTART:20170331T012500
DTEND:20170331T012800
SUMMARY:Netauktion objekt 2813-065 Auktionspåminnelse
DESCRIPTION:Länk till objektet du var intresserad av: https://staging.netauktion.se/auktion/produkt/kompressor-kit-niko-k224-f50d-nr-18
END:VEVENT
END:VCALENDAR
