BEGIN:VCALENDAR
VERSION:2.0
PRODID:-//NetAuktion//NONSGML NetAuktion//SV
METHOD:PUBLISH
BEGIN:VEVENT
UID:20260421T103127-1852864775-netauktion.se
DTSTAMP:20260421T103127
DTSTART:20100224T010700
DTEND:20100224T011000
SUMMARY:Netauktion objekt 0354-019 Auktionspåminnelse
DESCRIPTION:Länk till objektet du var intresserad av: https://staging.netauktion.se/auktion/produkt/kopieringsmaskin-xerox
END:VEVENT
END:VCALENDAR
