BEGIN:VCALENDAR
VERSION:2.0
PRODID:-//NetAuktion//NONSGML NetAuktion//SV
METHOD:PUBLISH
BEGIN:VEVENT
UID:20260421T102951-389674912-netauktion.se
DTSTAMP:20260421T102951
DTSTART:20100224T010000
DTEND:20100224T010300
SUMMARY:Netauktion objekt 0291-022 Auktionspåminnelse
DESCRIPTION:Länk till objektet du var intresserad av: https://staging.netauktion.se/auktion/produkt/diverse-saker-for-hemmet-varde-1500kr
END:VEVENT
END:VCALENDAR
