BEGIN:VCALENDAR
VERSION:2.0
PRODID:-//NetAuktion//NONSGML NetAuktion//SV
METHOD:PUBLISH
BEGIN:VEVENT
UID:20260421T103005-1038217565-netauktion.se
DTSTAMP:20260421T103005
DTSTART:20170331T015600
DTEND:20170331T015900
SUMMARY:Netauktion objekt 2827-007 Auktionspåminnelse
DESCRIPTION:Länk till objektet du var intresserad av: https://staging.netauktion.se/auktion/produkt/slagskurvdragare-hitachi-wh18dbal2-2
END:VEVENT
END:VCALENDAR
