BEGIN:VCALENDAR
VERSION:2.0
PRODID:-//NetAuktion//NONSGML NetAuktion//SV
METHOD:PUBLISH
BEGIN:VEVENT
UID:20260421T104603-358623709-netauktion.se
DTSTAMP:20260421T104603
DTSTART:20170331T011900
DTEND:20170331T012200
SUMMARY:Netauktion objekt 2827-008 Auktionspåminnelse
DESCRIPTION:Länk till objektet du var intresserad av: https://staging.netauktion.se/auktion/produkt/slagskurvdragare-hitachi-wh18dbal2-3
END:VEVENT
END:VCALENDAR
