BEGIN:VCALENDAR
VERSION:2.0
PRODID:-//NetAuktion//NONSGML NetAuktion//SV
METHOD:PUBLISH
BEGIN:VEVENT
UID:20260421T103030-1410924914-netauktion.se
DTSTAMP:20260421T103030
DTSTART:20170331T011200
DTEND:20170331T011500
SUMMARY:Netauktion objekt 2827-012 Auktionspåminnelse
DESCRIPTION:Länk till objektet du var intresserad av: https://staging.netauktion.se/auktion/produkt/slagskruvdragare-hitachi-wh18dbel-2
END:VEVENT
END:VCALENDAR
