BEGIN:VCALENDAR
VERSION:2.0
PRODID:-//NetAuktion//NONSGML NetAuktion//SV
METHOD:PUBLISH
BEGIN:VEVENT
UID:20260421T104535-1838166710-netauktion.se
DTSTAMP:20260421T104535
DTSTART:20170331T015300
DTEND:20170331T015600
SUMMARY:Netauktion objekt 2827-013 Auktionspåminnelse
DESCRIPTION:Länk till objektet du var intresserad av: https://staging.netauktion.se/auktion/produkt/skruvautomat-hitachi-wf14dsl
END:VEVENT
END:VCALENDAR
