BEGIN:VCALENDAR
VERSION:2.0
PRODID:-//NetAuktion//NONSGML NetAuktion//SV
METHOD:PUBLISH
BEGIN:VEVENT
UID:20260421T104533-628432346-netauktion.se
DTSTAMP:20260421T104533
DTSTART:20170331T013700
DTEND:20170331T014000
SUMMARY:Netauktion objekt 2827-019 Auktionspåminnelse
DESCRIPTION:Länk till objektet du var intresserad av: https://staging.netauktion.se/auktion/produkt/motorsag-hitachi-cs33ea-30sp-1
END:VEVENT
END:VCALENDAR
