BEGIN:VCALENDAR
VERSION:2.0
PRODID:-//NetAuktion//NONSGML NetAuktion//SV
METHOD:PUBLISH
BEGIN:VEVENT
UID:20260421T104457-1535526451-netauktion.se
DTSTAMP:20260421T104457
DTSTART:20170426T155700
DTEND:20170426T160000
SUMMARY:Netauktion objekt 2789-183 Auktionspåminnelse
DESCRIPTION:Länk till objektet du var intresserad av: https://staging.netauktion.se/auktion/produkt/2st-hogtalare
END:VEVENT
END:VCALENDAR
