BEGIN:VCALENDAR
VERSION:2.0
PRODID:-//NetAuktion//NONSGML NetAuktion//SV
METHOD:PUBLISH
BEGIN:VEVENT
UID:20260421T104606-1102287037-netauktion.se
DTSTAMP:20260421T104606
DTSTART:20170428T021100
DTEND:20170428T021400
SUMMARY:Netauktion objekt 2969-002 Auktionspåminnelse
DESCRIPTION:Länk till objektet du var intresserad av: https://staging.netauktion.se/auktion/produkt/stall-med-viktstanger
END:VEVENT
END:VCALENDAR
