BEGIN:VCALENDAR
VERSION:2.0
PRODID:-//NetAuktion//NONSGML NetAuktion//SV
METHOD:PUBLISH
BEGIN:VEVENT
UID:20260421T104529-1038163979-netauktion.se
DTSTAMP:20260421T104529
DTSTART:20170331T021200
DTEND:20170331T021500
SUMMARY:Netauktion objekt 2758-002 Auktionspåminnelse
DESCRIPTION:Länk till objektet du var intresserad av: https://staging.netauktion.se/auktion/produkt/hss-borr-fran-berner-1-10mm-5
END:VEVENT
END:VCALENDAR
