BEGIN:VCALENDAR
VERSION:2.0
PRODID:-//NetAuktion//NONSGML NetAuktion//SV
METHOD:PUBLISH
BEGIN:VEVENT
UID:20260421T103236-1702245017-netauktion.se
DTSTAMP:20260421T103236
DTSTART:20170331T020600
DTEND:20170331T020900
SUMMARY:Netauktion objekt 2758-003 Auktionspåminnelse
DESCRIPTION:Länk till objektet du var intresserad av: https://staging.netauktion.se/auktion/produkt/hss-borr-fran-berner-1-10mm-6
END:VEVENT
END:VCALENDAR
