BEGIN:VCALENDAR
VERSION:2.0
PRODID:-//NetAuktion//NONSGML NetAuktion//SV
METHOD:PUBLISH
BEGIN:VEVENT
UID:20260421T104616-1887505482-netauktion.se
DTSTAMP:20260421T104616
DTSTART:20170331T021700
DTEND:20170331T022000
SUMMARY:Netauktion objekt 2758-005 Auktionspåminnelse
DESCRIPTION:Länk till objektet du var intresserad av: https://staging.netauktion.se/auktion/produkt/hss-borr-fran-berner-1-10mm
END:VEVENT
END:VCALENDAR
