BEGIN:VCALENDAR
VERSION:2.0
PRODID:-//NetAuktion//NONSGML NetAuktion//SV
METHOD:PUBLISH
BEGIN:VEVENT
UID:20260421T103128-1089413613-netauktion.se
DTSTAMP:20260421T103128
DTSTART:20170331T021600
DTEND:20170331T021900
SUMMARY:Netauktion objekt 2758-009 Auktionspåminnelse
DESCRIPTION:Länk till objektet du var intresserad av: https://staging.netauktion.se/auktion/produkt/hss-borr-fran-berner-10mm
END:VEVENT
END:VCALENDAR
