BEGIN:VCALENDAR
VERSION:2.0
PRODID:-//NetAuktion//NONSGML NetAuktion//SV
METHOD:PUBLISH
BEGIN:VEVENT
UID:20260421T104600-504810153-netauktion.se
DTSTAMP:20260421T104600
DTSTART:20170928T022100
DTEND:20170928T022400
SUMMARY:Netauktion objekt 2758-012 Auktionspåminnelse
DESCRIPTION:Länk till objektet du var intresserad av: https://staging.netauktion.se/auktion/produkt/1300st-hss-borr-fran-berner-1-65mm
END:VEVENT
END:VCALENDAR
