BEGIN:VCALENDAR
VERSION:2.0
PRODID:-//NetAuktion//NONSGML NetAuktion//SV
METHOD:PUBLISH
BEGIN:VEVENT
UID:20260421T104608-447511677-netauktion.se
DTSTAMP:20260421T104608
DTSTART:20170928T022200
DTEND:20170928T022500
SUMMARY:Netauktion objekt 2758-013 Auktionspåminnelse
DESCRIPTION:Länk till objektet du var intresserad av: https://staging.netauktion.se/auktion/produkt/ca-225st-hss-borr-fran-berner-1-10mm
END:VEVENT
END:VCALENDAR
