BEGIN:VCALENDAR
VERSION:2.0
PRODID:-//NetAuktion//NONSGML NetAuktion//SV
METHOD:PUBLISH
BEGIN:VEVENT
UID:20260421T104535-1756428492-netauktion.se
DTSTAMP:20260421T104535
DTSTART:20170425T022800
DTEND:20170425T023100
SUMMARY:Netauktion objekt 2981-031 Auktionspåminnelse
DESCRIPTION:Länk till objektet du var intresserad av: https://staging.netauktion.se/auktion/produkt/markvibrator-asfaltspadda-wacker
END:VEVENT
END:VCALENDAR
