BEGIN:VCALENDAR
VERSION:2.0
PRODID:-//NetAuktion//NONSGML NetAuktion//SV
METHOD:PUBLISH
BEGIN:VEVENT
UID:20260421T104321-1561068392-netauktion.se
DTSTAMP:20260421T104321
DTSTART:20170928T030000
DTEND:20170928T030300
SUMMARY:Netauktion objekt 2746-121 Auktionspåminnelse
DESCRIPTION:Länk till objektet du var intresserad av: https://staging.netauktion.se/auktion/produkt/rordelar-for-gas-fran-gf
END:VEVENT
END:VCALENDAR
