BEGIN:VCALENDAR
VERSION:2.0
PRODID:-//NetAuktion//NONSGML NetAuktion//SV
METHOD:PUBLISH
BEGIN:VEVENT
UID:20260421T104605-231359415-netauktion.se
DTSTAMP:20260421T104605
DTSTART:20170425T022700
DTEND:20170425T023000
SUMMARY:Netauktion objekt 2981-042 Auktionspåminnelse
DESCRIPTION:Länk till objektet du var intresserad av: https://staging.netauktion.se/auktion/produkt/vagarbetsskyltar-staket
END:VEVENT
END:VCALENDAR
