BEGIN:VCALENDAR
VERSION:2.0
PRODID:-//NetAuktion//NONSGML NetAuktion//SV
METHOD:PUBLISH
BEGIN:VEVENT
UID:20260421T103137-1986744228-netauktion.se
DTSTAMP:20260421T103137
DTSTART:20170425T055700
DTEND:20170425T060000
SUMMARY:Netauktion objekt 2981-045 Auktionspåminnelse
DESCRIPTION:Länk till objektet du var intresserad av: https://staging.netauktion.se/auktion/produkt/lastvaxlarflak-30m3-hultens
END:VEVENT
END:VCALENDAR
